BEGIN:VCALENDAR
VERSION:2.0
PRODID:-//Thailand Local Travel - ECPv6.15.20//NONSGML v1.0//EN
CALSCALE:GREGORIAN
METHOD:PUBLISH
X-ORIGINAL-URL:https://thailocaltravel.com
X-WR-CALDESC:Events for Thailand Local Travel
REFRESH-INTERVAL;VALUE=DURATION:PT1H
X-Robots-Tag:noindex
X-PUBLISHED-TTL:PT1H
BEGIN:VTIMEZONE
TZID:America/Los_Angeles
BEGIN:DAYLIGHT
TZOFFSETFROM:-0800
TZOFFSETTO:-0700
TZNAME:PDT
DTSTART:20230312T100000
END:DAYLIGHT
BEGIN:STANDARD
TZOFFSETFROM:-0700
TZOFFSETTO:-0800
TZNAME:PST
DTSTART:20231105T090000
END:STANDARD
BEGIN:DAYLIGHT
TZOFFSETFROM:-0800
TZOFFSETTO:-0700
TZNAME:PDT
DTSTART:20240310T100000
END:DAYLIGHT
BEGIN:STANDARD
TZOFFSETFROM:-0700
TZOFFSETTO:-0800
TZNAME:PST
DTSTART:20241103T090000
END:STANDARD
BEGIN:DAYLIGHT
TZOFFSETFROM:-0800
TZOFFSETTO:-0700
TZNAME:PDT
DTSTART:20250309T100000
END:DAYLIGHT
BEGIN:STANDARD
TZOFFSETFROM:-0700
TZOFFSETTO:-0800
TZNAME:PST
DTSTART:20251102T090000
END:STANDARD
END:VTIMEZONE
BEGIN:VEVENT
DTSTART;VALUE=DATE:20241231
DTEND;VALUE=DATE:20250101
DTSTAMP:20260423T020756
CREATED:20240808T003354Z
LAST-MODIFIED:20240808T004330Z
UID:8722-1735603200-1735689599@thailocaltravel.com
SUMMARY:Koh Phangan New Years Eve
DESCRIPTION:Koh Phangan Thailand’s New Year’s Eve parties are a fun way to welcome the new year. After all\, the island is known for having some of the most legendary parties in Asia\, and New Year is no exception. Aside from the Full Moon Parties\, this special holiday is worth travelling to Koh Phangan for. \nThe best place to be is Haad Rin\, where thousands of travellers come to spend New Year’s Eve. The parties usually start as early as December 25 and go until December 31. Don’t miss out on the thrilling countdown festival; everything in between is equally exciting. \nDuring this time\, party organisers and resorts offer many new activities to keep you busy and entertained. Fire and foam parties\, drink specials\, beach sports tournaments\, light shows\, and dancing are common. Of course\, on the evening of the 31st\, visitors will be treated to a mind-blowing fireworks show. \nThese Are The Best Crazy Festivals In Thailand \n \n 
URL:https://thailocaltravel.com/events/koh-phangan-new-years-eve/
LOCATION:Koh Phangan Thailand\, Ko Pha Ngan\, 84280\, Thailand
CATEGORIES:Entertainment,Festival
ATTACH;FMTTYPE=image/jpeg:https://thailocaltravel.com/wp-content/uploads/2024/08/Koh-Phagnan-NYE.jpg
END:VEVENT
END:VCALENDAR