BEGIN:VCALENDAR
VERSION:2.0
PRODID:-//Thailand Local Travel - ECPv6.15.20//NONSGML v1.0//EN
CALSCALE:GREGORIAN
METHOD:PUBLISH
X-WR-CALNAME:Thailand Local Travel
X-ORIGINAL-URL:https://thailocaltravel.com
X-WR-CALDESC:Events for Thailand Local Travel
REFRESH-INTERVAL;VALUE=DURATION:PT1H
X-Robots-Tag:noindex
X-PUBLISHED-TTL:PT1H
BEGIN:VTIMEZONE
TZID:UTC
BEGIN:STANDARD
TZOFFSETFROM:+0000
TZOFFSETTO:+0000
TZNAME:UTC
DTSTART:20230101T000000
END:STANDARD
END:VTIMEZONE
BEGIN:VEVENT
DTSTART;VALUE=DATE:20240603
DTEND;VALUE=DATE:20240604
DTSTAMP:20260425T130602
CREATED:20230827T052658Z
LAST-MODIFIED:20230827T052658Z
UID:3558-1717372800-1717459199@thailocaltravel.com
SUMMARY:Birthday of Queen Suthida- National Holiday
DESCRIPTION:Across Thailand\, buildings are decorated to honor their queen\, with the most splendid are in Bangkok\, where many buildings and streets are festooned with colored lights\, flowers\, and portraits of the queen. \nJune 3 will now be an annual public holiday in honor of HM Queen Suthida’s birthday.\nThe widow of the late king has been reassigned the royal title of Queen Dowager Sirikit.
URL:https://thailocaltravel.com/events/birthday-of-queen-suthida-national-holiday/
CATEGORIES:National Holiday
END:VEVENT
END:VCALENDAR