BEGIN:VCALENDAR
VERSION:2.0
PRODID:-//Thailand Local Travel - ECPv6.15.20//NONSGML v1.0//EN
CALSCALE:GREGORIAN
METHOD:PUBLISH
X-ORIGINAL-URL:https://thailocaltravel.com
X-WR-CALDESC:Events for Thailand Local Travel
REFRESH-INTERVAL;VALUE=DURATION:PT1H
X-Robots-Tag:noindex
X-PUBLISHED-TTL:PT1H
BEGIN:VTIMEZONE
TZID:America/Los_Angeles
BEGIN:DAYLIGHT
TZOFFSETFROM:-0800
TZOFFSETTO:-0700
TZNAME:PDT
DTSTART:20240310T100000
END:DAYLIGHT
BEGIN:STANDARD
TZOFFSETFROM:-0700
TZOFFSETTO:-0800
TZNAME:PST
DTSTART:20241103T090000
END:STANDARD
BEGIN:DAYLIGHT
TZOFFSETFROM:-0800
TZOFFSETTO:-0700
TZNAME:PDT
DTSTART:20250309T100000
END:DAYLIGHT
BEGIN:STANDARD
TZOFFSETFROM:-0700
TZOFFSETTO:-0800
TZNAME:PST
DTSTART:20251102T090000
END:STANDARD
BEGIN:DAYLIGHT
TZOFFSETFROM:-0800
TZOFFSETTO:-0700
TZNAME:PDT
DTSTART:20260308T100000
END:DAYLIGHT
BEGIN:STANDARD
TZOFFSETFROM:-0700
TZOFFSETTO:-0800
TZNAME:PST
DTSTART:20261101T090000
END:STANDARD
END:VTIMEZONE
BEGIN:VEVENT
DTSTART;VALUE=DATE:20250212
DTEND;VALUE=DATE:20250213
DTSTAMP:20260423T025041
CREATED:20240806T003842Z
LAST-MODIFIED:20240806T003842Z
UID:8695-1739318400-1739404799@thailocaltravel.com
SUMMARY:Makha Bucha Day
DESCRIPTION:Makha Bucha Day is a Buddhist festival celebrated on the full moon day of the third lunar month in Cambodia\, Laos\, Thailand\, Sri Lanka and on the full moon day of Tabaung in Myanmar. \nIt is the second most important Buddhist festival after Vesak. \nIn Thailand it is designated as a national holiday\, on which sale of alcohol has been strictly prohibited. On the evening before\, urban temples in Thailand hold a candlelight procession and circumambulation around the main ubosot in the temple. Furthermore\, people will make merit by going to temples and by joining in with activities.
URL:https://thailocaltravel.com/events/makha-bucha-day/
LOCATION:Chiang Mai Thailand\, Chiang Mai\, Thailand
CATEGORIES:National Holiday
ATTACH;FMTTYPE=image/jpeg:https://thailocaltravel.com/wp-content/uploads/2023/08/Makha-Bucha-Day-Yoast-FB.jpg
END:VEVENT
END:VCALENDAR