BEGIN:VCALENDAR
VERSION:2.0
PRODID:-//Thailand Local Travel - ECPv6.15.20//NONSGML v1.0//EN
CALSCALE:GREGORIAN
METHOD:PUBLISH
X-ORIGINAL-URL:https://thailocaltravel.com
X-WR-CALDESC:Events for Thailand Local Travel
REFRESH-INTERVAL;VALUE=DURATION:PT1H
X-Robots-Tag:noindex
X-PUBLISHED-TTL:PT1H
BEGIN:VTIMEZONE
TZID:America/Los_Angeles
BEGIN:DAYLIGHT
TZOFFSETFROM:-0800
TZOFFSETTO:-0700
TZNAME:PDT
DTSTART:20230312T100000
END:DAYLIGHT
BEGIN:STANDARD
TZOFFSETFROM:-0700
TZOFFSETTO:-0800
TZNAME:PST
DTSTART:20231105T090000
END:STANDARD
BEGIN:DAYLIGHT
TZOFFSETFROM:-0800
TZOFFSETTO:-0700
TZNAME:PDT
DTSTART:20240310T100000
END:DAYLIGHT
BEGIN:STANDARD
TZOFFSETFROM:-0700
TZOFFSETTO:-0800
TZNAME:PST
DTSTART:20241103T090000
END:STANDARD
BEGIN:DAYLIGHT
TZOFFSETFROM:-0800
TZOFFSETTO:-0700
TZNAME:PDT
DTSTART:20250309T100000
END:DAYLIGHT
BEGIN:STANDARD
TZOFFSETFROM:-0700
TZOFFSETTO:-0800
TZNAME:PST
DTSTART:20251102T090000
END:STANDARD
END:VTIMEZONE
BEGIN:VEVENT
DTSTART;VALUE=DATE:20241108
DTEND;VALUE=DATE:20241116
DTSTAMP:20260425T075027
CREATED:20241026T223554Z
LAST-MODIFIED:20241026T223554Z
UID:9693-1731024000-1731715199@thailocaltravel.com
SUMMARY:Sukhothai Loy Krathong Festival
DESCRIPTION:Here is an amazing way to celebrate Loy Krathong. At the Sukhothai Loy Krathong Festival.\n8-15 November 2024 at the Sukhothai Historical Park.\nExperience a breathtaking evening as thousands of lanterns light up the ancient city under the glow of the full moon. Float your Krathong in the tranquil ponds\, take part in traditional parades\, and marvel at the spectacular light and sound show that brings Sukhothai’s heritage to life!\nOne of the things to do in Sukhothai is know the history of the town just like the fact that it is Thailand’s first capital. In the evening\, you will be fascinated with light shows telling the story of Loy Krathong and Sukhothai’s history\, fireworks\, and dance by Wat Mahathat.
URL:https://thailocaltravel.com/events/sukhothai-loy-krathong-festival/
LOCATION:Bangkok Thailand\, Bangkok\, 10100\, Thailand
CATEGORIES:Festival,National Holiday
ATTACH;FMTTYPE=image/jpeg:https://thailocaltravel.com/wp-content/uploads/2024/10/Loy-Krathong-Sukhothai-Thailand2.jpg
END:VEVENT
END:VCALENDAR