BEGIN:VCALENDAR
VERSION:2.0
PRODID:-//Thailand Local Travel - ECPv6.15.20//NONSGML v1.0//EN
CALSCALE:GREGORIAN
METHOD:PUBLISH
X-WR-CALNAME:Thailand Local Travel
X-ORIGINAL-URL:https://thailocaltravel.com
X-WR-CALDESC:Events for Thailand Local Travel
REFRESH-INTERVAL;VALUE=DURATION:PT1H
X-Robots-Tag:noindex
X-PUBLISHED-TTL:PT1H
BEGIN:VTIMEZONE
TZID:America/Los_Angeles
BEGIN:DAYLIGHT
TZOFFSETFROM:-0800
TZOFFSETTO:-0700
TZNAME:PDT
DTSTART:20240310T100000
END:DAYLIGHT
BEGIN:STANDARD
TZOFFSETFROM:-0700
TZOFFSETTO:-0800
TZNAME:PST
DTSTART:20241103T090000
END:STANDARD
BEGIN:DAYLIGHT
TZOFFSETFROM:-0800
TZOFFSETTO:-0700
TZNAME:PDT
DTSTART:20250309T100000
END:DAYLIGHT
BEGIN:STANDARD
TZOFFSETFROM:-0700
TZOFFSETTO:-0800
TZNAME:PST
DTSTART:20251102T090000
END:STANDARD
BEGIN:DAYLIGHT
TZOFFSETFROM:-0800
TZOFFSETTO:-0700
TZNAME:PDT
DTSTART:20260308T100000
END:DAYLIGHT
BEGIN:STANDARD
TZOFFSETFROM:-0700
TZOFFSETTO:-0800
TZNAME:PST
DTSTART:20261101T090000
END:STANDARD
END:VTIMEZONE
BEGIN:VEVENT
DTSTART;VALUE=DATE:20250603
DTEND;VALUE=DATE:20250604
DTSTAMP:20260422T223444
CREATED:20240806T011710Z
LAST-MODIFIED:20240806T011925Z
UID:8705-1748908800-1748995199@thailocaltravel.com
SUMMARY:H.M. Queen Suthida Birthday
DESCRIPTION:The Queen’s Birthday is a national holiday in Thailand held annually on June 3rd since 2019. If June 3rd falls on a weekend\, the holiday will be observed on the following Monday. \nThis holiday marks the birthday of the current queen of Thailand\, Queen Suthida. \nThe birthday of Queen Dowager Sirikit will also remain a holiday as National Mother’s Day on August 12th. \nHis Majesty the King named General Suthida Vajiralongkorn na Ayudhya the new queen on May 1st 2019 and conferred upon Queen Suthida the formal title of Her Majesty the Queen Suthida Bajrasudhabimalalakshana on May 4th 2019. \nThe Queen was born on June 3rd 1979 in Hat Yai\, Songkla\, Thailand\, to Kham and Jangheang Tidjai. She graduated from Assumption University in 2000. She took up a job as a flight attendant with Jalways Airlines – which is now part of Japan Airlines – from 2000 to 2003 and later Thai Airways in 2003 till 2008. Since 2010 Suthida had been serving in the Ratchawanlop Guards\, a unit of bodyguards protecting the then-Crown Prince\, since 2013\, according to Thai media. \nAfter Vajiralongkorn’s divorce from the former Princess Srirasmi\, Suthida was linked to the future king romantically. By October 2016\, international media had picked up on the rumours and declared her as the future consort. \nThe announcement of the new holiday was made by Nattaporn Jatusripitak\, spokesperson for the deputy prime minister in charge of economic affairs. The proposal from the Secretariat of the Cabinet for the Cabinet’s declaration was made in response to a royal command from His Majesty the King. \nAcross Thailand\, buildings are decorated to honour their queen\, with the most splendid are in Bangkok\, where many buildings and streets are festooned with coloured lights\, flowers\, and portraits of the queen. People are encouraged to wear purple (The Queen’s ‘colour’) to honour her and buildings in Bangkok are decorated with yellow (the colour of the King) and purple in celebration.
URL:https://thailocaltravel.com/events/queen-suthida-birthday/
LOCATION:Bangkok Thailand\, Bangkok\, 10100\, Thailand
CATEGORIES:National Holiday,Royalty
ATTACH;FMTTYPE=image/jpeg:https://thailocaltravel.com/wp-content/uploads/2024/08/Queen-Suthida-Thailand.jpg
END:VEVENT
END:VCALENDAR