BEGIN:VCALENDAR
VERSION:2.0
PRODID:-//Thailand Local Travel - ECPv6.15.20//NONSGML v1.0//EN
CALSCALE:GREGORIAN
METHOD:PUBLISH
X-WR-CALNAME:Thailand Local Travel
X-ORIGINAL-URL:https://thailocaltravel.com
X-WR-CALDESC:Events for Thailand Local Travel
REFRESH-INTERVAL;VALUE=DURATION:PT1H
X-Robots-Tag:noindex
X-PUBLISHED-TTL:PT1H
BEGIN:VTIMEZONE
TZID:America/Los_Angeles
BEGIN:DAYLIGHT
TZOFFSETFROM:-0800
TZOFFSETTO:-0700
TZNAME:PDT
DTSTART:20250309T100000
END:DAYLIGHT
BEGIN:STANDARD
TZOFFSETFROM:-0700
TZOFFSETTO:-0800
TZNAME:PST
DTSTART:20251102T090000
END:STANDARD
BEGIN:DAYLIGHT
TZOFFSETFROM:-0800
TZOFFSETTO:-0700
TZNAME:PDT
DTSTART:20260308T100000
END:DAYLIGHT
BEGIN:STANDARD
TZOFFSETFROM:-0700
TZOFFSETTO:-0800
TZNAME:PST
DTSTART:20261101T090000
END:STANDARD
BEGIN:DAYLIGHT
TZOFFSETFROM:-0800
TZOFFSETTO:-0700
TZNAME:PDT
DTSTART:20270314T100000
END:DAYLIGHT
BEGIN:STANDARD
TZOFFSETFROM:-0700
TZOFFSETTO:-0800
TZNAME:PST
DTSTART:20271107T090000
END:STANDARD
END:VTIMEZONE
BEGIN:VEVENT
DTSTART;VALUE=DATE:20260406
DTEND;VALUE=DATE:20260407
DTSTAMP:20260419T220913
CREATED:20260105T000744Z
LAST-MODIFIED:20260105T001350Z
UID:13218-1775433600-1775519999@thailocaltravel.com
SUMMARY:Chakri Day (Chakri Memorial Day)
DESCRIPTION:Chakri Day (Wan Chakkri) commemorates the **founding of the Chakri Dynasty\, Thailand’s current royal house\, by King Rama I in 1782. This dynasty established Bangkok as the capital and has continued through successive kings to the present monarch\, King Rama X. National Holiday.  \n\n\n\nCeremonial events: The King and the royal family attend official ceremonies\, including religious rites and offerings at the Royal Pantheon in Bangkok. Government offices\, schools\, and many businesses are typically closed\, though shops\, tourist sites\, and services like transit remain open.
URL:https://thailocaltravel.com/events/chakri-day-chakri-memorial-day/
CATEGORIES:National Holiday,Thailand
END:VEVENT
END:VCALENDAR