BEGIN:VCALENDAR
VERSION:2.0
PRODID:-//Thailand Local Travel - ECPv6.15.20//NONSGML v1.0//EN
CALSCALE:GREGORIAN
METHOD:PUBLISH
X-ORIGINAL-URL:https://thailocaltravel.com
X-WR-CALDESC:Events for Thailand Local Travel
REFRESH-INTERVAL;VALUE=DURATION:PT1H
X-Robots-Tag:noindex
X-PUBLISHED-TTL:PT1H
BEGIN:VTIMEZONE
TZID:America/Los_Angeles
BEGIN:DAYLIGHT
TZOFFSETFROM:-0800
TZOFFSETTO:-0700
TZNAME:PDT
DTSTART:20250309T100000
END:DAYLIGHT
BEGIN:STANDARD
TZOFFSETFROM:-0700
TZOFFSETTO:-0800
TZNAME:PST
DTSTART:20251102T090000
END:STANDARD
BEGIN:DAYLIGHT
TZOFFSETFROM:-0800
TZOFFSETTO:-0700
TZNAME:PDT
DTSTART:20260308T100000
END:DAYLIGHT
BEGIN:STANDARD
TZOFFSETFROM:-0700
TZOFFSETTO:-0800
TZNAME:PST
DTSTART:20261101T090000
END:STANDARD
BEGIN:DAYLIGHT
TZOFFSETFROM:-0800
TZOFFSETTO:-0700
TZNAME:PDT
DTSTART:20270314T100000
END:DAYLIGHT
BEGIN:STANDARD
TZOFFSETFROM:-0700
TZOFFSETTO:-0800
TZNAME:PST
DTSTART:20271107T090000
END:STANDARD
END:VTIMEZONE
BEGIN:VEVENT
DTSTART;VALUE=DATE:20261013
DTEND;VALUE=DATE:20261014
DTSTAMP:20260420T124716
CREATED:20260106T010034Z
LAST-MODIFIED:20260106T010034Z
UID:13308-1791849600-1791935999@thailocaltravel.com
SUMMARY:HM King Bhumibol Adulyadej Memorial Day
DESCRIPTION:Also known as His Majesty King Bhumibol Adulyadej the Great Memorial Day\, this national holiday in Thailand is held annually on October 13th. If October 13th falls on a weekend\, the holiday will be observed on the following Monday. \n \nThis holiday has been observed since 2017 to commemorate the death of the late King of Thailand\, Bhumibol Adulyadej on this day in 2016. Most government businesses are closed and selling alcohol is prohibited.
URL:https://thailocaltravel.com/events/hm-king-bhumibol-adulyadej-memorial-day-2/
CATEGORIES:National Holiday,Royalty
ATTACH;FMTTYPE=image/jpeg:https://thailocaltravel.com/wp-content/uploads/2024/05/HM-King-Bhumibol-Adulyadej-Memorial-Day.jpg
END:VEVENT
END:VCALENDAR