BEGIN:VCALENDAR
VERSION:2.0
PRODID:-//Thailand Local Travel - ECPv6.15.20//NONSGML v1.0//EN
CALSCALE:GREGORIAN
METHOD:PUBLISH
X-ORIGINAL-URL:https://thailocaltravel.com
X-WR-CALDESC:Events for Thailand Local Travel
REFRESH-INTERVAL;VALUE=DURATION:PT1H
X-Robots-Tag:noindex
X-PUBLISHED-TTL:PT1H
BEGIN:VTIMEZONE
TZID:America/Los_Angeles
BEGIN:DAYLIGHT
TZOFFSETFROM:-0800
TZOFFSETTO:-0700
TZNAME:PDT
DTSTART:20250309T100000
END:DAYLIGHT
BEGIN:STANDARD
TZOFFSETFROM:-0700
TZOFFSETTO:-0800
TZNAME:PST
DTSTART:20251102T090000
END:STANDARD
BEGIN:DAYLIGHT
TZOFFSETFROM:-0800
TZOFFSETTO:-0700
TZNAME:PDT
DTSTART:20260308T100000
END:DAYLIGHT
BEGIN:STANDARD
TZOFFSETFROM:-0700
TZOFFSETTO:-0800
TZNAME:PST
DTSTART:20261101T090000
END:STANDARD
BEGIN:DAYLIGHT
TZOFFSETFROM:-0800
TZOFFSETTO:-0700
TZNAME:PDT
DTSTART:20270314T100000
END:DAYLIGHT
BEGIN:STANDARD
TZOFFSETFROM:-0700
TZOFFSETTO:-0800
TZNAME:PST
DTSTART:20271107T090000
END:STANDARD
END:VTIMEZONE
BEGIN:VEVENT
DTSTART;VALUE=DATE:20260406
DTEND;VALUE=DATE:20260407
DTSTAMP:20260423T043134
CREATED:20260105T000744Z
LAST-MODIFIED:20260105T001350Z
UID:13218-1775433600-1775519999@thailocaltravel.com
SUMMARY:Chakri Day (Chakri Memorial Day)
DESCRIPTION:Chakri Day (Wan Chakkri) commemorates the **founding of the Chakri Dynasty\, Thailand’s current royal house\, by King Rama I in 1782. This dynasty established Bangkok as the capital and has continued through successive kings to the present monarch\, King Rama X. National Holiday.  \n\n\n\nCeremonial events: The King and the royal family attend official ceremonies\, including religious rites and offerings at the Royal Pantheon in Bangkok. Government offices\, schools\, and many businesses are typically closed\, though shops\, tourist sites\, and services like transit remain open.
URL:https://thailocaltravel.com/events/chakri-day-chakri-memorial-day/
CATEGORIES:National Holiday,Thailand
END:VEVENT
BEGIN:VEVENT
DTSTART;VALUE=DATE:20260413
DTEND;VALUE=DATE:20260416
DTSTAMP:20260423T043134
CREATED:20250812T010523Z
LAST-MODIFIED:20250812T010523Z
UID:12097-1776038400-1776297599@thailocaltravel.com
SUMMARY:Songkran Festival
DESCRIPTION:Songkran is an annual festival which takes place over 3 days during the traditional Thai New Year\, April 13th-15th (in almost all provinces). The official Songkran festival lasts 3 days but\, in reality\, the whole week is taken over by a mass celebration as the whole country shuts down for a momentous water fight. Wild scenes of exuberance can be seen throughout the Kingdom with music\, dancing\, drinking and people drenched from head to toe. Water guns\, hose pipes\, buckets\, in fact\, anything you can get your hands on can be used to splash people\, and one thing is for certain: you will get wet! \nAs April is the hottest month of the year in Thailand\, everyone gets involved with this country-wide water fight and it brings great relief from the soaring temperatures. Songkran started as a Buddhist tradition\, using a light sprinkling of water to symbolize purification but\, as time went by\, people began splashing each other in a more playful manner until recent years\, when the entire country becomes one almighty water fight celebrated by millions!
URL:https://thailocaltravel.com/events/songkran-festival/
LOCATION:Thailand\, Thailand
CATEGORIES:Festival,National Holiday,Thailand
ATTACH;FMTTYPE=image/jpeg:https://thailocaltravel.com/wp-content/uploads/2025/08/Songkran-Festival-Phuket.jpg
END:VEVENT
BEGIN:VEVENT
DTSTART;VALUE=DATE:20260501
DTEND;VALUE=DATE:20260502
DTSTAMP:20260423T043134
CREATED:20260105T234809Z
LAST-MODIFIED:20260105T234809Z
UID:13277-1777593600-1777679999@thailocaltravel.com
SUMMARY:Visakha Bucha Day- National Holiday
DESCRIPTION:Visakha Bucha Day is the most significant event in the Buddhist calendar. The day commemorates three defining events in the life of the Buddha\, which all occurred on the full-moon day of the sixth lunar month (the Visakha month). Therefor the date changes each year\, and is a National Holiday. \n \nIt is observed by attending temples\, with candlelight processions around temples in the evening (3 clockwise laps with candles\, incense\, and flowers). Alcohol sales are banned\, and most bars are closed.
URL:https://thailocaltravel.com/events/visakha-bucha-day-national-holiday/
CATEGORIES:National Holiday,Religious,Thailand
ATTACH;FMTTYPE=image/jpeg:https://thailocaltravel.com/wp-content/uploads/2026/01/Visakha-Bucha-Day-Thailand.jpg
END:VEVENT
BEGIN:VEVENT
DTSTART;VALUE=DATE:20260603
DTEND;VALUE=DATE:20260604
DTSTAMP:20260423T043134
CREATED:20260105T235750Z
LAST-MODIFIED:20260106T000238Z
UID:13282-1780444800-1780531199@thailocaltravel.com
SUMMARY:Birthday of HM Queen Suthida- National Holiday
DESCRIPTION:Her Majesty Queen Suthida of Thailand’s birthday is on June 3\, 1978\, making June 3rd a national holiday in Thailand to celebrate her birthday\, marked by public ceremonies and observances across the country. 
URL:https://thailocaltravel.com/events/birthday-of-hm-queen-suthida-national-holiday/
CATEGORIES:National Holiday,Royalty
ATTACH;FMTTYPE=image/jpeg:https://thailocaltravel.com/wp-content/uploads/2026/01/thailand-queen-suthida.jpg
END:VEVENT
BEGIN:VEVENT
DTSTART;VALUE=DATE:20260728
DTEND;VALUE=DATE:20260729
DTSTAMP:20260423T043134
CREATED:20260106T000132Z
LAST-MODIFIED:20260106T000132Z
UID:13288-1785196800-1785283199@thailocaltravel.com
SUMMARY:Birthday of HM King Maha Vajiralongkorn
DESCRIPTION:This national holiday in Thailand is held annually on July 28th. If July 28th falls on a weekend\, the holiday will be observed on the following Monday. The day commemorates the birthday of the King of Thailand\, Vajiralongkorn\, who was born on this day in 1952.
URL:https://thailocaltravel.com/events/birthday-of-hm-king-maha-vajiralongkorn/
CATEGORIES:National Holiday,Royalty
ATTACH;FMTTYPE=image/jpeg:https://thailocaltravel.com/wp-content/uploads/2026/01/Thailand-King-Maha-Vijiralongkorn.jpg
END:VEVENT
BEGIN:VEVENT
DTSTART;VALUE=DATE:20260729
DTEND;VALUE=DATE:20260730
DTSTAMP:20260423T043134
CREATED:20260106T002801Z
LAST-MODIFIED:20260106T002801Z
UID:13291-1785283200-1785369599@thailocaltravel.com
SUMMARY:Asahna Bucha Day
DESCRIPTION:It marks the day when the Buddha delivered his first sermon (Dhammacakkappavattana Sutta) to his five disciples\, which led to The first Buddhist monk\, the completion of the Triple Gem: Buddha\, Dhamma (teachings)\, and Sangha (monastic community). \n \nObserved on the full moon of the 8th lunar month\, usually in July\, and is a National Holiday. \nOn Asahna Bucha Day\, most Thai Buddhists will visit their local wat (temple) to make merit. One way of doing this is by donating candles to the temple. This ancient tradition dates back long before the advent of electricity when monks living in the temple relied on candlelight to see them through the darker days of the rainy season. The most famous of the candle festivals is held in the north-east city of Ubon Ratchathani.
URL:https://thailocaltravel.com/events/asahna-bucha-day/
CATEGORIES:National Holiday,Religious
ATTACH;FMTTYPE=image/jpeg:https://thailocaltravel.com/wp-content/uploads/2023/08/Ubon-Ratchathani-Candle-Festival-2022.jpg
END:VEVENT
BEGIN:VEVENT
DTSTART;VALUE=DATE:20260812
DTEND;VALUE=DATE:20260813
DTSTAMP:20260423T043134
CREATED:20260106T004054Z
LAST-MODIFIED:20260106T004054Z
UID:13298-1786492800-1786579199@thailocaltravel.com
SUMMARY:Birthday Of The Queen Mother Sirikit
DESCRIPTION:Mother’s Day (Wan Mae) is celebrated each year on August 12\, the birthday of Queen Mother Sirikit. Well-known for her charity work\, the Queen Mother is the honorary president of the Thai Red Cross.
URL:https://thailocaltravel.com/events/birthday-of-the-queen-mother-sirikit/
CATEGORIES:National Holiday,Royalty
ATTACH;FMTTYPE=image/jpeg:https://thailocaltravel.com/wp-content/uploads/2026/01/The-Queen-Mother.jpg
END:VEVENT
BEGIN:VEVENT
DTSTART;VALUE=DATE:20261013
DTEND;VALUE=DATE:20261014
DTSTAMP:20260423T043134
CREATED:20260106T010034Z
LAST-MODIFIED:20260106T010034Z
UID:13308-1791849600-1791935999@thailocaltravel.com
SUMMARY:HM King Bhumibol Adulyadej Memorial Day
DESCRIPTION:Also known as His Majesty King Bhumibol Adulyadej the Great Memorial Day\, this national holiday in Thailand is held annually on October 13th. If October 13th falls on a weekend\, the holiday will be observed on the following Monday. \n \nThis holiday has been observed since 2017 to commemorate the death of the late King of Thailand\, Bhumibol Adulyadej on this day in 2016. Most government businesses are closed and selling alcohol is prohibited.
URL:https://thailocaltravel.com/events/hm-king-bhumibol-adulyadej-memorial-day-2/
CATEGORIES:National Holiday,Royalty
ATTACH;FMTTYPE=image/jpeg:https://thailocaltravel.com/wp-content/uploads/2024/05/HM-King-Bhumibol-Adulyadej-Memorial-Day.jpg
END:VEVENT
BEGIN:VEVENT
DTSTART;VALUE=DATE:20261124
DTEND;VALUE=DATE:20261126
DTSTAMP:20260423T043134
CREATED:20251118T010715Z
LAST-MODIFIED:20251118T010806Z
UID:12663-1795478400-1795651199@thailocaltravel.com
SUMMARY:Loy Krathong Festival 2026
DESCRIPTION:Loy Krathong is a Thai festival celebrated annually throughout Thailand and in nearby countries with significant South Western Thai cultures (Laos\, Shan\, Mon\, Tanintharyi\, Kelantan\, Kedah\, and Xishuangbanna). The name could be translated as “to float ritual vessel or lamp\,” and comes from the tradition of making Krathong or buoyant\, decorated baskets\, which are then floated on a river. Many Thais use the Krathong to thank the Goddess of Water and River\, Goddess Khongkha or to worship the Holy Buddha’s hair pagoda in heaven in Buddhist beliefs. This festival traces its origin back to India. \nLoy Krathong takes place on the evening of the full moon of the 12th month in the traditional Thai lunar calendar\, so the exact date of the festival changes every year. In the Western calendar this usually falls in the month of November. In Chiang Mai\, the festival lasts three days. \nYi Peng is taking place at the same time\, with it’s epic lantern festivals. \nChiang Mai Tips: \n\nNo need to buy tickets or pay. From Tha Phae Gate square along Tha Phae Road\, down to the Ping River are all free festivities.\nParade along Tha Phae Road is free.\nCan purchase Lanterns from vendors along the way.\nCan purchase Krathong’s and release in the river across the bridge.\nThe old city hotels fill up\, so book as soon as possible.\n\n\n \n 
URL:https://thailocaltravel.com/events/loy-krathong-festival-2026/
LOCATION:Thailand\, Thailand
CATEGORIES:Festival,National Holiday,Thailand
ATTACH;FMTTYPE=image/jpeg:https://thailocaltravel.com/wp-content/uploads/2025/07/Celebrate-Loy-Krathong-Festival.jpg
END:VEVENT
BEGIN:VEVENT
DTSTART;VALUE=DATE:20261124
DTEND;VALUE=DATE:20261126
DTSTAMP:20260423T043134
CREATED:20251118T011248Z
LAST-MODIFIED:20251118T011248Z
UID:12666-1795478400-1795651199@thailocaltravel.com
SUMMARY:Yi Peng Festival 2026
DESCRIPTION:Loy Krathong coincides with the Lanna (northern Thai) festival known as Yi Peng. Yi means ‘two’ and peng means a ‘full moon day’. Yi Peng refers to the full moon day in the second month according to the Lanna lunar calendar (the twelfth month of the Thai lunar calendar). The festival is meant as a time to make merit. \nSwarms of sky lanterns (Thai: โคมลอย; RTGS: khom loi)\, literally: ‘floating lanterns’\, are launched into the air. Khom loi are made from a thin fabric\, such as rice paper\, stretched over a bamboo or wire frame\, to which a candle or fuel cell is attached. When the fuel cell is lit\, the resulting hot air is trapped inside the lantern and creates enough lift for the khom loi to float into the sky. \n 
URL:https://thailocaltravel.com/events/yi-peng-festival-2026/
LOCATION:Thailand\, Thailand
CATEGORIES:Festival,National Holiday,Thailand
ATTACH;FMTTYPE=image/jpeg:https://thailocaltravel.com/wp-content/uploads/2024/10/yi-peng-festival-2.jpg
END:VEVENT
END:VCALENDAR