BEGIN:VCALENDAR
VERSION:2.0
PRODID:-//Thailand Local Travel - ECPv6.15.20//NONSGML v1.0//EN
CALSCALE:GREGORIAN
METHOD:PUBLISH
X-WR-CALNAME:Thailand Local Travel
X-ORIGINAL-URL:https://thailocaltravel.com
X-WR-CALDESC:Events for Thailand Local Travel
REFRESH-INTERVAL;VALUE=DURATION:PT1H
X-Robots-Tag:noindex
X-PUBLISHED-TTL:PT1H
BEGIN:VTIMEZONE
TZID:America/Los_Angeles
BEGIN:DAYLIGHT
TZOFFSETFROM:-0800
TZOFFSETTO:-0700
TZNAME:PDT
DTSTART:20230312T100000
END:DAYLIGHT
BEGIN:STANDARD
TZOFFSETFROM:-0700
TZOFFSETTO:-0800
TZNAME:PST
DTSTART:20231105T090000
END:STANDARD
BEGIN:DAYLIGHT
TZOFFSETFROM:-0800
TZOFFSETTO:-0700
TZNAME:PDT
DTSTART:20240310T100000
END:DAYLIGHT
BEGIN:STANDARD
TZOFFSETFROM:-0700
TZOFFSETTO:-0800
TZNAME:PST
DTSTART:20241103T090000
END:STANDARD
BEGIN:DAYLIGHT
TZOFFSETFROM:-0800
TZOFFSETTO:-0700
TZNAME:PDT
DTSTART:20250309T100000
END:DAYLIGHT
BEGIN:STANDARD
TZOFFSETFROM:-0700
TZOFFSETTO:-0800
TZNAME:PST
DTSTART:20251102T090000
END:STANDARD
END:VTIMEZONE
BEGIN:VEVENT
DTSTART;VALUE=DATE:20241205
DTEND;VALUE=DATE:20241206
DTSTAMP:20260422T222958
CREATED:20240522T005238Z
LAST-MODIFIED:20240522T005238Z
UID:8334-1733356800-1733443199@thailocaltravel.com
SUMMARY:King Bhumibol Birthday Commemoration Day
DESCRIPTION:The day commemorates the birthday of the late King of Thailand\, Bhumibol Adulyadej. It is also Thailand’s National Day and is the day when Father’s Day is celebrated in Thailand. \nHistory of King Bhumibol’s Birthday:\nKnown as Rama IX\, he reigned Thailand since June 9th 1946 until his death on October 13th 2016\, making him the longest-reigning monarch ever in Thailand’s history. \nDespite being a constitutional monarch\, and not legally being allowed a role in politics\, Bhumibol made several decisive interventions in the Thai political sphere and has been credited with helping facilitate Thailand’s transition to democracy in the 1990s.
URL:https://thailocaltravel.com/events/king-bhumibol-birthday-commemoration-day/
CATEGORIES:National Holiday,Royalty
ATTACH;FMTTYPE=image/jpeg:https://thailocaltravel.com/wp-content/uploads/2024/05/King-Bhumibol.jpg
END:VEVENT
END:VCALENDAR