BEGIN:VCALENDAR
VERSION:2.0
PRODID:-//Thailand Local Travel - ECPv6.15.20//NONSGML v1.0//EN
CALSCALE:GREGORIAN
METHOD:PUBLISH
X-ORIGINAL-URL:https://thailocaltravel.com
X-WR-CALDESC:Events for Thailand Local Travel
REFRESH-INTERVAL;VALUE=DURATION:PT1H
X-Robots-Tag:noindex
X-PUBLISHED-TTL:PT1H
BEGIN:VTIMEZONE
TZID:America/Los_Angeles
BEGIN:DAYLIGHT
TZOFFSETFROM:-0800
TZOFFSETTO:-0700
TZNAME:PDT
DTSTART:20230312T100000
END:DAYLIGHT
BEGIN:STANDARD
TZOFFSETFROM:-0700
TZOFFSETTO:-0800
TZNAME:PST
DTSTART:20231105T090000
END:STANDARD
BEGIN:DAYLIGHT
TZOFFSETFROM:-0800
TZOFFSETTO:-0700
TZNAME:PDT
DTSTART:20240310T100000
END:DAYLIGHT
BEGIN:STANDARD
TZOFFSETFROM:-0700
TZOFFSETTO:-0800
TZNAME:PST
DTSTART:20241103T090000
END:STANDARD
BEGIN:DAYLIGHT
TZOFFSETFROM:-0800
TZOFFSETTO:-0700
TZNAME:PDT
DTSTART:20250309T100000
END:DAYLIGHT
BEGIN:STANDARD
TZOFFSETFROM:-0700
TZOFFSETTO:-0800
TZNAME:PST
DTSTART:20251102T090000
END:STANDARD
END:VTIMEZONE
BEGIN:VEVENT
DTSTART;VALUE=DATE:20241123
DTEND;VALUE=DATE:20241125
DTSTAMP:20260422T161025
CREATED:20240709T194315Z
LAST-MODIFIED:20240709T195152Z
UID:8472-1732320000-1732492799@thailocaltravel.com
SUMMARY:Lopburi Monkey (Festival) Banquet 2024
DESCRIPTION:The town of Lopburi celebrates\, every year\, on the last Sunday of November a traditional monkey banquet.This strange event takes place in San Phra Kan shrine and in Phra Prang Sam Yot shrine. In both places there is a large amount of monkeys.\nLopburi is located 150 km north east to Bangkok.\nThis is a mass feeding fiesta of more than 3000 Long-tail macaque monkeys who live in the area. According to the local faith\, feeding the monkeys brings good luck. In the banquet\, long tables covered with red tablecloths are placed.\n\nOn the tables the celebrators put colored ice with great variety of fresh fruits. More than 10\,000 people reach the place in order to see the thousands of monkeys that eat all the colored fruits. While tourists and townspeople may want to rub monkey elbows directly at the table\, vendors and food stalls provide sustenance for human attendees. \n 
URL:https://thailocaltravel.com/events/monkey-festival/
LOCATION:Lop Buri\, Lop Buri\, Lopburi\, 15000\, Thailand
CATEGORIES:Festival,Food,Nature
ATTACH;FMTTYPE=image/jpeg:https://thailocaltravel.com/wp-content/uploads/2024/07/Monkey-Buffet-Festival-Lopburi.jpg
END:VEVENT
END:VCALENDAR