BEGIN:VCALENDAR
VERSION:2.0
PRODID:-//Thailand Local Travel - ECPv6.15.20//NONSGML v1.0//EN
CALSCALE:GREGORIAN
METHOD:PUBLISH
X-ORIGINAL-URL:https://thailocaltravel.com
X-WR-CALDESC:Events for Thailand Local Travel
REFRESH-INTERVAL;VALUE=DURATION:PT1H
X-Robots-Tag:noindex
X-PUBLISHED-TTL:PT1H
BEGIN:VTIMEZONE
TZID:America/Los_Angeles
BEGIN:DAYLIGHT
TZOFFSETFROM:-0800
TZOFFSETTO:-0700
TZNAME:PDT
DTSTART:20250309T100000
END:DAYLIGHT
BEGIN:STANDARD
TZOFFSETFROM:-0700
TZOFFSETTO:-0800
TZNAME:PST
DTSTART:20251102T090000
END:STANDARD
BEGIN:DAYLIGHT
TZOFFSETFROM:-0800
TZOFFSETTO:-0700
TZNAME:PDT
DTSTART:20260308T100000
END:DAYLIGHT
BEGIN:STANDARD
TZOFFSETFROM:-0700
TZOFFSETTO:-0800
TZNAME:PST
DTSTART:20261101T090000
END:STANDARD
BEGIN:DAYLIGHT
TZOFFSETFROM:-0800
TZOFFSETTO:-0700
TZNAME:PDT
DTSTART:20270314T100000
END:DAYLIGHT
BEGIN:STANDARD
TZOFFSETFROM:-0700
TZOFFSETTO:-0800
TZNAME:PST
DTSTART:20271107T090000
END:STANDARD
END:VTIMEZONE
BEGIN:VEVENT
DTSTART;VALUE=DATE:20260819
DTEND;VALUE=DATE:20260907
DTSTAMP:20260419T231823
CREATED:20260106T005147Z
LAST-MODIFIED:20260106T005147Z
UID:13302-1787097600-1788739199@thailocaltravel.com
SUMMARY:Phuket Por Tor Festival
DESCRIPTION:Por Tor or the ‘Hungry Ghost’ festival\, is an important merit-making event for the ethnic Chinese. Special food\, flowers\, and candles are offered to ancestors on altars. Other offerings are made to ‘feed the ghosts without relatives’ that are said to have been released from hell for the month. \n \nExperience this beautiful event for yourself at any Chinese Shrine on the island\, or head to Seng Tek Bel Shrine on Phuket Road and the fresh market on Ranong Road to enjoy two of the biggest Hungry Ghost celebrations in Phuket. The Hungry Ghost Festival showcases a rich tradition in Phuket\, with a variety of activities taking place at all of the Chinese shrines across the island.
URL:https://thailocaltravel.com/events/phuket-por-tor-festival/
LOCATION:Phuket\, Phuket\, Phuket\, Thailand
CATEGORIES:Festival,Food,Phuket
ATTACH;FMTTYPE=image/jpeg:https://thailocaltravel.com/wp-content/uploads/2026/01/Phuket-Por-Tor-Hungry-Ghost-Festival.jpg
END:VEVENT
END:VCALENDAR