BEGIN:VCALENDAR
VERSION:2.0
PRODID:-//Thailand Local Travel - ECPv6.15.20//NONSGML v1.0//EN
CALSCALE:GREGORIAN
METHOD:PUBLISH
X-ORIGINAL-URL:https://thailocaltravel.com
X-WR-CALDESC:Events for Thailand Local Travel
REFRESH-INTERVAL;VALUE=DURATION:PT1H
X-Robots-Tag:noindex
X-PUBLISHED-TTL:PT1H
BEGIN:VTIMEZONE
TZID:America/Los_Angeles
BEGIN:DAYLIGHT
TZOFFSETFROM:-0800
TZOFFSETTO:-0700
TZNAME:PDT
DTSTART:20250309T100000
END:DAYLIGHT
BEGIN:STANDARD
TZOFFSETFROM:-0700
TZOFFSETTO:-0800
TZNAME:PST
DTSTART:20251102T090000
END:STANDARD
BEGIN:DAYLIGHT
TZOFFSETFROM:-0800
TZOFFSETTO:-0700
TZNAME:PDT
DTSTART:20260308T100000
END:DAYLIGHT
BEGIN:STANDARD
TZOFFSETFROM:-0700
TZOFFSETTO:-0800
TZNAME:PST
DTSTART:20261101T090000
END:STANDARD
BEGIN:DAYLIGHT
TZOFFSETFROM:-0800
TZOFFSETTO:-0700
TZNAME:PDT
DTSTART:20270314T100000
END:DAYLIGHT
BEGIN:STANDARD
TZOFFSETFROM:-0700
TZOFFSETTO:-0800
TZNAME:PST
DTSTART:20271107T090000
END:STANDARD
END:VTIMEZONE
BEGIN:VEVENT
DTSTART;VALUE=DATE:20260303
DTEND;VALUE=DATE:20260304
DTSTAMP:20260419T215326
CREATED:20260104T234954Z
LAST-MODIFIED:20260104T234954Z
UID:13213-1772496000-1772582399@thailocaltravel.com
SUMMARY:Makha Bucha (Magha Puja) — Thailand 2026
DESCRIPTION:Makha Bucha (Thai: Wan Makha Bucha\, มาฆบูชา) is one of Thailand’s most important Buddhist holy days. It’s observed on the full moon day of the third lunar month according to the traditional Buddhist calendar. \n \nThe day commemorates a remarkable event in Buddhist history over 2\,500 years ago when 1\,250 enlightened disciples spontaneously gathered to hear the Buddha teach\, without prior notice or formal scheduling. \n \nIn Thailand\, Makha Bucha is also a no-alcohol day\, meaning the sale of alcoholic beverages is prohibited nationwide on that date out of respect for the religious observance.
URL:https://thailocaltravel.com/events/makha-bucha-magha-puja-thailand-2026/
CATEGORIES:National Holiday,Religious,Thailand
ATTACH;FMTTYPE=image/jpeg:https://thailocaltravel.com/wp-content/uploads/2026/01/Makha-Bucha-Day-Thailand.jpg
END:VEVENT
END:VCALENDAR