BEGIN:VCALENDAR
VERSION:2.0
PRODID:-//Thailand Local Travel - ECPv6.15.20//NONSGML v1.0//EN
CALSCALE:GREGORIAN
METHOD:PUBLISH
X-ORIGINAL-URL:https://thailocaltravel.com
X-WR-CALDESC:Events for Thailand Local Travel
REFRESH-INTERVAL;VALUE=DURATION:PT1H
X-Robots-Tag:noindex
X-PUBLISHED-TTL:PT1H
BEGIN:VTIMEZONE
TZID:America/Los_Angeles
BEGIN:DAYLIGHT
TZOFFSETFROM:-0800
TZOFFSETTO:-0700
TZNAME:PDT
DTSTART:20250309T100000
END:DAYLIGHT
BEGIN:STANDARD
TZOFFSETFROM:-0700
TZOFFSETTO:-0800
TZNAME:PST
DTSTART:20251102T090000
END:STANDARD
BEGIN:DAYLIGHT
TZOFFSETFROM:-0800
TZOFFSETTO:-0700
TZNAME:PDT
DTSTART:20260308T100000
END:DAYLIGHT
BEGIN:STANDARD
TZOFFSETFROM:-0700
TZOFFSETTO:-0800
TZNAME:PST
DTSTART:20261101T090000
END:STANDARD
BEGIN:DAYLIGHT
TZOFFSETFROM:-0800
TZOFFSETTO:-0700
TZNAME:PDT
DTSTART:20270314T100000
END:DAYLIGHT
BEGIN:STANDARD
TZOFFSETFROM:-0700
TZOFFSETTO:-0800
TZNAME:PST
DTSTART:20271107T090000
END:STANDARD
END:VTIMEZONE
BEGIN:VEVENT
DTSTART;VALUE=DATE:20260405
DTEND;VALUE=DATE:20260406
DTSTAMP:20260420T063541
CREATED:20260223T001916Z
LAST-MODIFIED:20260223T001916Z
UID:13559-1775347200-1775433599@thailocaltravel.com
SUMMARY:Easter 2026
DESCRIPTION:Amazon is a great place to shop for Easter items for the kids or a family event. This is a good time to shop for for seasonal foods\, candy\, children’s products\, party goods\, and springtime apparel. Amazon Fresh and grocery-adjacent categories benefit significantly from increased spend during the two weeks leading up to the holiday as families plan gatherings. \nShop Easter On Amazon  \n  \n \n  \nThis page contains links to affiliate partner websites\, at no cost to you. As an Amazon Associate I earn from qualifying purchases. See Disclosure Page.\nAmazon and the Amazon logo are trademarks of Amazon.com\, Inc. or its affiliates.
URL:https://thailocaltravel.com/events/easter-2026/
CATEGORIES:Kids,Religious,Shopping
ATTACH;FMTTYPE=image/png:https://thailocaltravel.com/wp-content/uploads/2025/11/512px-Amazon_logo.svg_.png
END:VEVENT
END:VCALENDAR