BEGIN:VCALENDAR
VERSION:2.0
PRODID:-//Thailand Local Travel - ECPv6.15.20//NONSGML v1.0//EN
CALSCALE:GREGORIAN
METHOD:PUBLISH
X-WR-CALNAME:Thailand Local Travel
X-ORIGINAL-URL:https://thailocaltravel.com
X-WR-CALDESC:Events for Thailand Local Travel
REFRESH-INTERVAL;VALUE=DURATION:PT1H
X-Robots-Tag:noindex
X-PUBLISHED-TTL:PT1H
BEGIN:VTIMEZONE
TZID:America/Los_Angeles
BEGIN:DAYLIGHT
TZOFFSETFROM:-0800
TZOFFSETTO:-0700
TZNAME:PDT
DTSTART:20240310T100000
END:DAYLIGHT
BEGIN:STANDARD
TZOFFSETFROM:-0700
TZOFFSETTO:-0800
TZNAME:PST
DTSTART:20241103T090000
END:STANDARD
BEGIN:DAYLIGHT
TZOFFSETFROM:-0800
TZOFFSETTO:-0700
TZNAME:PDT
DTSTART:20250309T100000
END:DAYLIGHT
BEGIN:STANDARD
TZOFFSETFROM:-0700
TZOFFSETTO:-0800
TZNAME:PST
DTSTART:20251102T090000
END:STANDARD
BEGIN:DAYLIGHT
TZOFFSETFROM:-0800
TZOFFSETTO:-0700
TZNAME:PDT
DTSTART:20260308T100000
END:DAYLIGHT
BEGIN:STANDARD
TZOFFSETFROM:-0700
TZOFFSETTO:-0800
TZNAME:PST
DTSTART:20261101T090000
END:STANDARD
END:VTIMEZONE
BEGIN:VEVENT
DTSTART;VALUE=DATE:20250310
DTEND;VALUE=DATE:20250315
DTSTAMP:20260423T045148
CREATED:20241009T233404Z
LAST-MODIFIED:20241009T233404Z
UID:9414-1741564800-1741996799@thailocaltravel.com
SUMMARY:Mermaid Yoga Retreat Thailand
DESCRIPTION:ABOUT THE RETREAT \nEnjoy 5 days and 4 nights in a beautiful bungalow at the eco resort “The Narima.” Each day is filled with underwater photoshoots\, yoga sessions\, mermaid courses\, and lots of community building time. Choose your ideal accommodations\, ocean side or close to the resort\, share with a friend or stretch out and enjoy the bungalow on your own. The retreat is a full bodied experience that will allow you to grow and transform in ways you never think possible with like-minded individuals. The energy of the group coupled with our highly experienced team of professionals creates a safe and welcoming environment that you are sure to enjoy. You will also have the opportunity to create stunning content at the resort\, and on our multiple dives and day trips so you can boost your portfolio and social media. \nWHAT’S INCLUDED \n* Mermaid Training Sessions taught by PADI Mermaid Instructor Olivia Dyck (certification for Canadian participants only) \n* Daily yoga sessions taught by Yoga Alliance-certified instructor Narisa Jotiban (morning or sunset yoga) \n* Phi Phi Island Day Trip \n* Mermaid Content and Multiple Dive Days \n* Professional Photography (underwater and on site) \n* Massage Included \n* Last Night Dinner at Khao Yai Restaurant (Stunning Views and delicious food) \nWhat’s not included: airfare\, food (breakfast is included in accommodations)\, transfer to and from airport
URL:https://thailocaltravel.com/events/mermaid-yoga-retreat-thailand/
CATEGORIES:Retreat,Thailand
ATTACH;FMTTYPE=image/jpeg:https://thailocaltravel.com/wp-content/uploads/2024/10/Mermaid-Yoga-Retreat-Loh-Lanta.jpg
END:VEVENT
END:VCALENDAR