BEGIN:VCALENDAR
VERSION:2.0
PRODID:-//Thailand Local Travel - ECPv6.15.20//NONSGML v1.0//EN
CALSCALE:GREGORIAN
METHOD:PUBLISH
X-WR-CALNAME:Thailand Local Travel
X-ORIGINAL-URL:https://thailocaltravel.com
X-WR-CALDESC:Events for Thailand Local Travel
REFRESH-INTERVAL;VALUE=DURATION:PT1H
X-Robots-Tag:noindex
X-PUBLISHED-TTL:PT1H
BEGIN:VTIMEZONE
TZID:America/Los_Angeles
BEGIN:DAYLIGHT
TZOFFSETFROM:-0800
TZOFFSETTO:-0700
TZNAME:PDT
DTSTART:20240310T100000
END:DAYLIGHT
BEGIN:STANDARD
TZOFFSETFROM:-0700
TZOFFSETTO:-0800
TZNAME:PST
DTSTART:20241103T090000
END:STANDARD
BEGIN:DAYLIGHT
TZOFFSETFROM:-0800
TZOFFSETTO:-0700
TZNAME:PDT
DTSTART:20250309T100000
END:DAYLIGHT
BEGIN:STANDARD
TZOFFSETFROM:-0700
TZOFFSETTO:-0800
TZNAME:PST
DTSTART:20251102T090000
END:STANDARD
BEGIN:DAYLIGHT
TZOFFSETFROM:-0800
TZOFFSETTO:-0700
TZNAME:PDT
DTSTART:20260308T100000
END:DAYLIGHT
BEGIN:STANDARD
TZOFFSETFROM:-0700
TZOFFSETTO:-0800
TZNAME:PST
DTSTART:20261101T090000
END:STANDARD
END:VTIMEZONE
BEGIN:VEVENT
DTSTART;VALUE=DATE:20250111
DTEND;VALUE=DATE:20250112
DTSTAMP:20260422T070512
CREATED:20241207T210203Z
LAST-MODIFIED:20241207T210203Z
UID:10514-1736553600-1736639999@thailocaltravel.com
SUMMARY:Children's Day Thailand
DESCRIPTION:In Thailand\, in addition to celebrations for Mother’s and Father’s Day\, there is also a holiday dedicated to children. Wan Dek\, or Children’s Day\, is celebrated annually on the second Saturday in January. \nWan Dek is historically a day where parents celebrate their children and reinforce good examples and values. Nationally\, it is a day to recognize the development that children have made and will make to the future of the country. These days it’s all about children having fun and parents being grateful for the part they play in bonding families and enriching lives. \nThai people celebrate Thai Children’s Day by taking their kids out for fun educational activities. Many public services and establishments\, such as the various zoos and wildlife parks throughout the country\, Thai Red Cross Museum\, Museum Siam\, Government House\, Parliament House\, and various military bases of the Thai navy\, army\, and air force organize special events for children\, many of which are free of charge.
URL:https://thailocaltravel.com/events/childrens-day-thailand/
LOCATION:Bangkok Thailand\, Bangkok\, 10100\, Thailand
CATEGORIES:Kids,Thailand
ATTACH;FMTTYPE=image/jpeg:https://thailocaltravel.com/wp-content/uploads/2024/12/Childrens-Day-Thailand.jpg2_.jpg
END:VEVENT
END:VCALENDAR