BEGIN:VCALENDAR
VERSION:2.0
PRODID:-//Thailand Local Travel - ECPv6.15.20//NONSGML v1.0//EN
CALSCALE:GREGORIAN
METHOD:PUBLISH
X-ORIGINAL-URL:https://thailocaltravel.com
X-WR-CALDESC:Events for Thailand Local Travel
REFRESH-INTERVAL;VALUE=DURATION:PT1H
X-Robots-Tag:noindex
X-PUBLISHED-TTL:PT1H
BEGIN:VTIMEZONE
TZID:America/Los_Angeles
BEGIN:DAYLIGHT
TZOFFSETFROM:-0800
TZOFFSETTO:-0700
TZNAME:PDT
DTSTART:20240310T100000
END:DAYLIGHT
BEGIN:STANDARD
TZOFFSETFROM:-0700
TZOFFSETTO:-0800
TZNAME:PST
DTSTART:20241103T090000
END:STANDARD
BEGIN:DAYLIGHT
TZOFFSETFROM:-0800
TZOFFSETTO:-0700
TZNAME:PDT
DTSTART:20250309T100000
END:DAYLIGHT
BEGIN:STANDARD
TZOFFSETFROM:-0700
TZOFFSETTO:-0800
TZNAME:PST
DTSTART:20251102T090000
END:STANDARD
BEGIN:DAYLIGHT
TZOFFSETFROM:-0800
TZOFFSETTO:-0700
TZNAME:PDT
DTSTART:20260308T100000
END:DAYLIGHT
BEGIN:STANDARD
TZOFFSETFROM:-0700
TZOFFSETTO:-0800
TZNAME:PST
DTSTART:20261101T090000
END:STANDARD
END:VTIMEZONE
BEGIN:VEVENT
DTSTART;VALUE=DATE:20250120
DTEND;VALUE=DATE:20250125
DTSTAMP:20260423T120135
CREATED:20240825T222222Z
LAST-MODIFIED:20240825T222222Z
UID:9020-1737331200-1737763199@thailocaltravel.com
SUMMARY:EARTH Elemental Summer Camp
DESCRIPTION:EARTH Elemental Summer Camp – January 20-24\, 2025\n Explore\, Learn\, and Grow with Nature! \nAre you ready to embark on a journey that will ignite your child’s curiosity and passion for the planet? Our EARTH Elemental Summer Camp is designed to inspire young minds through hands-on learning experiences that connect them deeply with the Earth. From January 20th to 24th\, your child will dive into the wonders of nature\, discovering how we can protect our planet\, grow sustainably\, and reduce our carbon footprint.\nAt our camp\, kids will:\nHike through stunning natural landscapes: Learn about diverse ecosystems and the creatures that inhabit them.Engage in Project-Based Learning (PBL): Explore natural building techniques\, experience the planting\, harvesting\, and chocolate-making process from Cacao trees\, and delve into the science behind earth formations and ancient construction.Participate in Social-Emotional Learning (SEL): Develop self-awareness and empathy by using fear as a compass to chase dreams and navigate life’s challenges.\nOur program is all about discovering the Earth’s power and how we can make a positive impact. Our dedicated team ensures a safe\, inclusive environment where campers build confidence\, forge friendships\, and create lifelong memories.\nAge groups:5 to 8 years old9 to 14 years old\n More Details & InfoDates: January 20-24\, 2025Time: Mon-Fri\, 9:00 am to 3:00 pmLocation: Meeting point around the Old City\, Chiang Mai\, ThailandEarly Bird Price: Only 15\,000 THB until December 30thRegular Price: 17\,000 THB after December 30th\,Meals: Healthy\, ethical\, and locally-produced meals provided (lunch + snacks)\nDon’t miss out on this incredible opportunity for your child to connect with nature and learn essential life skills in a fun and engaging way.\n Register Now: Please\, write to hello@abletoshare.org or to our Facebook page to complete your registration: www.facebook.com/abletoshare\nWe can’t wait to start this adventure with your little ones! \nFee for Full Week: EARTH Elemental Summer Camp – January 20-24\, 2025\, in Chiang Mai\, Thailand. Including delicious\, healthy\, ethical meals (lunch + snacks). Further information will be sent by e-mail.\n\nhttps://thailocaltravel.com/best-of-chiang-mai-2024/
URL:https://thailocaltravel.com/events/earth-elemental-summer-camp/
LOCATION:Chiang Mai Thailand\, Chiang Mai\, Thailand
CATEGORIES:Chiang Mai,Summer Camp
ATTACH;FMTTYPE=image/jpeg:https://thailocaltravel.com/wp-content/uploads/2024/08/Earth-Elemental-Summer-Camp2.jpg
END:VEVENT
END:VCALENDAR