BEGIN:VCALENDAR
VERSION:2.0
PRODID:-//Thailand Local Travel - ECPv6.15.20//NONSGML v1.0//EN
CALSCALE:GREGORIAN
METHOD:PUBLISH
X-WR-CALNAME:Thailand Local Travel
X-ORIGINAL-URL:https://thailocaltravel.com
X-WR-CALDESC:Events for Thailand Local Travel
REFRESH-INTERVAL;VALUE=DURATION:PT1H
X-Robots-Tag:noindex
X-PUBLISHED-TTL:PT1H
BEGIN:VTIMEZONE
TZID:America/Los_Angeles
BEGIN:DAYLIGHT
TZOFFSETFROM:-0800
TZOFFSETTO:-0700
TZNAME:PDT
DTSTART:20240310T100000
END:DAYLIGHT
BEGIN:STANDARD
TZOFFSETFROM:-0700
TZOFFSETTO:-0800
TZNAME:PST
DTSTART:20241103T090000
END:STANDARD
BEGIN:DAYLIGHT
TZOFFSETFROM:-0800
TZOFFSETTO:-0700
TZNAME:PDT
DTSTART:20250309T100000
END:DAYLIGHT
BEGIN:STANDARD
TZOFFSETFROM:-0700
TZOFFSETTO:-0800
TZNAME:PST
DTSTART:20251102T090000
END:STANDARD
BEGIN:DAYLIGHT
TZOFFSETFROM:-0800
TZOFFSETTO:-0700
TZNAME:PDT
DTSTART:20260308T100000
END:DAYLIGHT
BEGIN:STANDARD
TZOFFSETFROM:-0700
TZOFFSETTO:-0800
TZNAME:PST
DTSTART:20261101T090000
END:STANDARD
END:VTIMEZONE
BEGIN:VEVENT
DTSTART;VALUE=DATE:20250127
DTEND;VALUE=DATE:20250201
DTSTAMP:20260423T012220
CREATED:20240825T221556Z
LAST-MODIFIED:20240825T221809Z
UID:9017-1737936000-1738367999@thailocaltravel.com
SUMMARY:AIR Elemental Summer Camp
DESCRIPTION:AIR Elemental Summer Camp – January 27-31\, 2025\n Soar to New Heights with Our AIR Camp! \nGet ready for an exhilarating journey into the world of air and all its wonders! From January 27th to 31st\, our AIR Elemental Summer Camp in Chiang Mai will captivate your child’s imagination with hands-on activities that explore the mysteries of the sky\, the power of wind\, and the beauty of flight.At our camp\, kids will:Engage in Project-Based Learning (PBL): Work on an exciting project to create something that can fly\, from kites to paper planes. Through these activities\, kids will learn about aerodynamics\, resistance\, and how to harness the power of the wind to make their creations soar.Explore the Windmill of Emotions through SEL: Discover how emotions\, like the wind\, can be strong or gentle\, and how to navigate them effectively. This session will teach kids that resistance isn’t something to avoid but something to use to their advantage\, just like a plane takes off against the wind.Discover the Science of Air and Density: Visit local hot springs and dive into the fascinating world of density with the density tower experiment. Kids will see firsthand how different materials interact with air and water\, making science both fun and memorable.\nOur program is designed to help children explore the incredible power of air\, both in nature and within themselves. With a focus on Nature-Based Education\, PBL\, and SEL\, this camp offers a balanced experience of learning\, creativity\, and personal growth.\nAge Groups:5 to 8 years old9 to 14 years old\n More Details & InfoDates: January 27-31\, 2025Time: Mon-Fri\, 9:00 am to 3:00 pmLocation: Meeting point around the Old City\, Chiang Mai\, ThailandEarly Bird Price: Only 15\,000 THB until December 30thRegular Price: 17\,000 THB after December 30thMeals: Healthy\, ethical\, and locally-produced meals provided (lunch + snacks)\nDon’t miss this chance to let your child’s imagination take flight in a camp designed to inspire and educate.\n Register Now: Please\, write to hello@abletoshare.org or visit our Facebook page to complete your registration: www.facebook.com/abletoshare\nWe can’t wait to start this high-flying adventure with your little ones! Fee for Full Week: AIR Elemental Summer Camp – January 27-31\, 2025\, in Chiang Mai\, Thailand. Including delicious\, healthy\, ethical meals (lunch + snacks). Further information will be sent by e-mail.\n\nhttps://thailocaltravel.com/best-of-chiang-mai-2024/
URL:https://thailocaltravel.com/events/air-elemental-summer-camp/
LOCATION:Chiang Mai Thailand\, Chiang Mai\, Thailand
CATEGORIES:Chiang Mai,Summer Camp
ATTACH;FMTTYPE=image/jpeg:https://thailocaltravel.com/wp-content/uploads/2024/08/Air-Elemental-Summer-Camp2.jpg
END:VEVENT
END:VCALENDAR