BEGIN:VCALENDAR
VERSION:2.0
PRODID:-//Thailand Local Travel - ECPv6.15.20//NONSGML v1.0//EN
CALSCALE:GREGORIAN
METHOD:PUBLISH
X-ORIGINAL-URL:https://thailocaltravel.com
X-WR-CALDESC:Events for Thailand Local Travel
REFRESH-INTERVAL;VALUE=DURATION:PT1H
X-Robots-Tag:noindex
X-PUBLISHED-TTL:PT1H
BEGIN:VTIMEZONE
TZID:Asia/Bangkok
BEGIN:STANDARD
TZOFFSETFROM:+0700
TZOFFSETTO:+0700
TZNAME:+07
DTSTART:20240101T000000
END:STANDARD
END:VTIMEZONE
BEGIN:VEVENT
DTSTART;VALUE=DATE:20250203
DTEND;VALUE=DATE:20251008
DTSTAMP:20260420T001925
CREATED:20240825T220315Z
LAST-MODIFIED:20240825T220648Z
UID:9011-1738540800-1759881599@thailocaltravel.com
SUMMARY:FIRE Elemental Summer Camp
DESCRIPTION:FIRE Elemental Summer Camp – February 3-7\, 2025\n Ignite the Spark of Discovery! \nPrepare your child for an unforgettable adventure where they’ll explore the transformative power of fire and the ancient legend of the Phoenix. From February 3rd to 7th\, our FIRE Elemental Summer Camp in Chiang Mai offers a unique blend of hands-on science\, creative exploration\, and meaningful social-emotional learning (SEL).\nAt our camp\, kids will:\nEmbrace Transformation through SEL: Learn about the legend of the Phoenix and how transformation plays a crucial role in personal growth. This week is all about understanding change and using it as a force for good.Dive into Chemistry and Science: Discover the fascinating world of colors\, pigments\, and light through engaging chemistry experiments. Kids will get to witness fire in different colors and learn the science behind it—all while participating in exciting Project-Based Learning (PBL).Connect with Community through Fire: Experience the joy of cooking with fire during a community BBQ\, fostering teamwork and connection.Explore Nature’s Wonders: Visit the local hotsprings and take an inspiring trip to the Elephant Sanctuary\, deepening their appreciation for nature and conservation.\nOur program is designed to help children discover the power of transformation while learning valuable life skills. With a strong focus on Nature-Based Education\, PBL\, and SEL\, this camp promises to light up your child’s imagination and empower them to make a difference in the world.\nAge groups:5 to 8 years old9 to 14 years old\n More Details & InfoDates: February 3-7\, 2025Time: Mon-Fri\, 9:00 am to 3:00 pmLocation: Meeting point around the Old City\, Chiang Mai\, ThailandEarly Bird Price: Only 15\,000 THB until December 30thRegular Price: 16\,000 THB after December 30thMeals: Healthy\, ethical\, and locally-produced meals provided (lunch + snacks)\nDon’t let your child miss out on this fiery experience that blends education with adventure\, all while making new friends and creating lasting memories.\n Register Now: Please\, write to hello@abletoshare.org or to our facebook page to complete your registration: www.facebook.com/abletoshare\nWe can’t wait to see your little ones embrace the transformative power of fire! Fee for Full Week: FIRE Elemental Summer Camp – February 3-7\, 2025\, in Chiang Mai\, Thailand. Including delicious\, healthy\, ethical meals (lunch + snacks). Please send payment confirmation with the registration form. Further information will be sent by e-mail.\n\nhttps://thailocaltravel.com/book-travel/
URL:https://thailocaltravel.com/events/fire-elemental-summer-camp/
LOCATION:Chiang Mai Thailand\, Chiang Mai\, Thailand
CATEGORIES:Chiang Mai,Summer Camp
ATTACH;FMTTYPE=image/jpeg:https://thailocaltravel.com/wp-content/uploads/2024/08/Able-Fire-Summer-Camp-Feb-2025-1.jpg
END:VEVENT
BEGIN:VEVENT
DTSTART;VALUE=DATE:20250210
DTEND;VALUE=DATE:20250215
DTSTAMP:20260420T001925
CREATED:20240825T215330Z
LAST-MODIFIED:20240825T221000Z
UID:9008-1739145600-1739577599@thailocaltravel.com
SUMMARY:WATER Elemental Summer Camp
DESCRIPTION:From February 10th to 14th\, join us in Chiang Mai for a week of exciting exploration and hands-on learning centered around the element of water. Our WATER Elemental Summer Camp will engage your child’s curiosity and teach valuable life lessons through activities that connect them deeply with nature and the ever-changing flow of emotions.\nAt our camp\, kids will:\nExplore the River of Emotions through SEL: Just as a river flows and changes\, so do our emotions. Through guided activities\, children will learn how to navigate their feelings\, understanding that\, like muddy water becoming clear\, patience and reflection can bring clarity and peace of mind.\nEngage in Project-Based Learning (PBL): Learn the science behind water filtration using fire and decantation. Campers will also participate in a fun and cultural cooking activity—creating a bamboo river of noodles—teaching them the importance of patience and cooperation.\nExperience the Power of Water in Nature: Visit the Grand Canyon Water Park for a thrilling adventure and explore a 65-million-year-old river at a National Park. These experiences will immerse campers in the beauty and power of water\, reinforcing lessons about sustainability and respect for our natural resources.\nOur program is all about harnessing the power of water\, both in the environment and within ourselves. With a focus on Nature-Based Education\, PBL\, and SEL\, this camp provides a comprehensive and enriching experience for all participants.\nAge Groups:5 to 8 years old9 to 14 years old\n More Details & InfoDates: February 10-14\, 2025Time: Mon-Fri\, 9:00 am to 3:00 pmLocation: Meeting point around the Old City\, Chiang Mai\, ThailandEarly Bird Price: Only 15\,000 THB until December 30thRegular Price: 17\,000 THB after December 30thMeals: Healthy\, ethical\, and locally-produced meals provided (lunch + snacks)Don’t let your child miss out on this incredible opportunity to connect with water\, nature\, and themselves in a meaningful and fun way.\n Register Now: Please\, write to hello@abletoshare.org or visit our Facebook page to complete your registration: www.facebook.com/abletoshareWe can’t wait to start this aquatic adventure with your little ones! \nFee for Full Week: WATER Elemental Summer Camp – February 10-14\, 2025\, in Chiang Mai\, Thailand.Including delicious\, healthy\, ethical meals (lunch + snacks). Further information will be sent by e-mail.\n\nhttps://thailocaltravel.com/best-of-chiang-mai-2024/
URL:https://thailocaltravel.com/events/water-elemental-summer-camp/
LOCATION:Chiang Mai Thailand\, Chiang Mai\, Thailand
CATEGORIES:Chiang Mai,Summer Camp
ATTACH;FMTTYPE=image/jpeg:https://thailocaltravel.com/wp-content/uploads/2024/08/Able-Water-Summer-Camp-Feb-2025.jpg
END:VEVENT
END:VCALENDAR